BEGIN:VCALENDAR
VERSION:2.0
PRODID:-//eventon.com NONSGML v1.0//EN
CALSCALE:GREGORIAN
METHOD:PUBLISH
BEGIN:VEVENT
UID:69e73135ce526
DTSTAMP:20260421T081133Z
DTSTART:20170623T200000Z
DTEND:20170623T010000Z
LOCATION:Goldmark's Stuttgart Charlottenplatz 1\,  70173 Stuttgart
SUMMARY:NO tears (For the creatures of the night) feat. DJ Großmeister Mesch
DESCRIPTION:Post Punk // Wave // Punkrock // Bier // Geil\nhttps://www.gold
 marks.de/events/no-tears-for-the-creatures-of-the-night-feat-dj-grossmeiste
 r-mesch-2/
URL:https://www.goldmarks.de/events/no-tears-for-the-creatures-of-the-night-feat-dj-grossmeister-mesch-2/
END:VEVENT
END:VCALENDAR