BEGIN:VCALENDAR
VERSION:2.0
PRODID:-//eventon.com NONSGML v1.0//EN
CALSCALE:GREGORIAN
METHOD:PUBLISH
BEGIN:VEVENT
UID:69e74aea3bc1b
DTSTAMP:20260421T100114Z
DTSTART:20171110T203000Z
DTEND:20171110T010000Z
LOCATION:Goldmark's Stuttgart Charlottenplatz 1\,  70173 Stuttgart
SUMMARY:Django S& guests  
DESCRIPTION:“Bier\,  Party\,  Pogo\,  Schweiß\,  Dreck\,  Orgasmus\,  To
 d.” Und zwar in dieser Reihenfolge. Habt Ihr Angst? Keine Sorge\,  hier w
 ird nicht zur hedonistischen Völkerschlacht aufgerufen. Das ist lediglich 
 die Beschreibung für die neueste Krawallsensation\,  die aus den oberbayri
 schen Alpentälern ausgerotzt wurde. Django S. spielen einen Bastard aus Sk
 a\,  Rock’n’Roll\,  Mundart\,  Balkan[..]\nhttps://www.goldmarks.de/eve
 nts/django-s-guests-2/
URL:https://www.goldmarks.de/events/django-s-guests-2/
END:VEVENT
END:VCALENDAR