BEGIN:VCALENDAR
VERSION:2.0
PRODID:-//eventon.com NONSGML v1.0//EN
CALSCALE:GREGORIAN
METHOD:PUBLISH
BEGIN:VEVENT
UID:69e74960105d9
DTSTAMP:20260421T095440Z
DTSTART:20170826T190000Z
DTEND:20170826T235000Z
LOCATION:Goldmark&#039;s Charlottenplatz 1\,  70173 Stuttgart
SUMMARY:RocknRoll-Safari *Sommer-Open-Air* Party 2017 !!
DESCRIPTION:Samstag\,  26. August 2017 · 22.00 Uhr ROCK&#8217;N&#8217;ROLL
  SAFARI CLUB DJ REVEREND REICHSSTADT &amp; DJ ALFREDO AMORE Diesen Sommer g
 eht es quasi &#8222;non-stop&#8220; auf Musik-Safari (oder zumindest einmal
  monatlich) &#8211; und sollte das Wetter es zulassen wird selbstredend &#8
 222;outdoor&#8220; im Biergarten gefeiert werden! Der erfahrene Tour-Guide 
 REVEREND REICHSSTADT setzt sich[..]\nhttps://www.goldmarks.de/events/rocknr
 oll-safari-sommer-open-air/
URL:https://www.goldmarks.de/events/rocknroll-safari-sommer-open-air/
END:VEVENT
END:VCALENDAR