BEGIN:VCALENDAR
VERSION:2.0
PRODID:-//eventon.com NONSGML v1.0//EN
CALSCALE:GREGORIAN
METHOD:PUBLISH
BEGIN:VEVENT
UID:69e730f233f0c
DTSTAMP:20260421T081026Z
DTSTART:20171030
DTEND:20171031
LOCATION:Goldmark's Stuttgart Charlottenplatz 1\,  70173 Stuttgart
SUMMARY:GESCHLOSSEN ! Morgen sind wir wieder für Euch da!
DESCRIPTION:GESCHLOSSEN ! Morgen sind wir wieder für Euch da!\nhttps://www
 .goldmarks.de/events/geschlossen-morgen-sind-wir-wieder-fuer-euch-da-2/
URL:https://www.goldmarks.de/events/geschlossen-morgen-sind-wir-wieder-fuer-euch-da-2/
END:VEVENT
END:VCALENDAR