BEGIN:VCALENDAR
VERSION:2.0
PRODID:-//eventon.com NONSGML v1.0//EN
CALSCALE:GREGORIAN
METHOD:PUBLISH
BEGIN:VEVENT
UID:69e7315554bb2
DTSTAMP:20260421T081205Z
DTSTART:20180609T202900Z
DTEND:20180609T235000Z
LOCATION:Goldmark&#039;s Charlottenplatz 1\,  70173 Stuttgart
SUMMARY:Slim Cessna's Auto Club
DESCRIPTION:&#8222;This is the Country-Band that plays the Bar at the End o
 f the World&#8220;\,  meint JELLO BIAFRA\,  der frühere Frontmann der DEAD
  KENNEDYS\,  der einige Alben der sechsköpfigen und spektakulär guten Tru
 ppe aus Denver auf seinem Label Alternative Tentacles veröffentlicht hat (
 in &#8222;old Europe&#8220; ist die Band mittlerweile beim deutschen[..]\nh
 ttps://www.goldmarks.de/events/slim-cessnas-auto-club/
URL:https://www.goldmarks.de/events/slim-cessnas-auto-club/
END:VEVENT
END:VCALENDAR