BEGIN:VCALENDAR
VERSION:2.0
PRODID:-//eventon.com NONSGML v1.0//EN
CALSCALE:GREGORIAN
METHOD:PUBLISH
BEGIN:VEVENT
UID:69e730ecbd1e0
DTSTAMP:20260421T081020Z
DTSTART:20180622T210000Z
DTEND:20180622T235000Z
LOCATION:Goldmark's Stuttgart Charlottenplatz 1\,  70173 Stuttgart
SUMMARY:ROCK'N'ROLL *Sommer* SAFARI feat. DJ REVEREND REICHSSTADT & Alfredo Amore
DESCRIPTION:ROCK&#8217;N&#8217;ROLL SAFARI CLUB DJ REVEREND REICHSSTADT &am
 p; DJ ALFREDO AMORE Es geht auf frühsommerliche Musik-Safari &#8211; und s
 ollte das Wetter es zulassen wird selbstverständlich &#8222;outdoor&#8220;
  im Biergarten gefeiert und getanzt werden! Euer Tour-Guide REVEREND REICHS
 STADT setzt sich also wieder einmal seinen (invisiblen) Tropenhelm auf und 
 führt das doch arg vertrauensselige[..]\nhttps://www.goldmarks.de/events/r
 ocknroll-sommer-safari-feat-dj-reverend-reichsstadt-gast/
URL:https://www.goldmarks.de/events/rocknroll-sommer-safari-feat-dj-reverend-reichsstadt-gast/
END:VEVENT
END:VCALENDAR