BEGIN:VCALENDAR
VERSION:2.0
PRODID:-//eventon.com NONSGML v1.0//EN
CALSCALE:GREGORIAN
METHOD:PUBLISH
BEGIN:VEVENT
UID:69e739ef31892
DTSTAMP:20260421T084847Z
DTSTART:20180831T200100Z
DTEND:20180831T235000Z
LOCATION:Goldmark&#039;s Charlottenplatz 1\,  70173 Stuttgart
SUMMARY:Gitarren\,  Laut & Yeah!!!!!  Herbst Opening !! Biergarten bleibt geschlossen!
DESCRIPTION:ACDC // HUE LEWIS &amp; THE NEWS // EDDIE MONEY // NIGHT MARCHE
 RS // HOT SNAKES // DAVID BOWIE // MOTÖRHEAD //  WEEZER // ADOLESCENTS //
  JOY DIVISION// THE BATES // KYUSS // RAMONES // NADA SURF //MONSTER MAGNET
  // STIFF LITTLE FINGERS // ADDICTS// HOT SNAKES // BEATSTEAKS //[..]\nhttp
 s://www.goldmarks.de/events/gitarren-laut-yeah-dancing-in-the-moonlight-ope
 n-air-edition-copy/
URL:https://www.goldmarks.de/events/gitarren-laut-yeah-dancing-in-the-moonlight-open-air-edition-copy/
END:VEVENT
END:VCALENDAR