BEGIN:VCALENDAR
VERSION:2.0
PRODID:-//eventon.com NONSGML v1.0//EN
CALSCALE:GREGORIAN
METHOD:PUBLISH
BEGIN:VEVENT
UID:69e4eb0d43b61
DTSTAMP:20260419T144741Z
DTSTART:20181222T200100Z
DTEND:20181222T235000Z
LOCATION:Goldmark&#039;s Charlottenplatz 1\,  70173 Stuttgart
SUMMARY:GITARRE\,  LAUT & YEAH! meets MAKING FRIENDS meets GOING UNDERGROUND - Goodbye 2018 - Edition
DESCRIPTION:3 Partyreihen tun sich zusammen uns sagen ganz laut Servus 2018
 ! Musikalisch gehts also durch folgende Welten: Skatepunk Punkrock Post-Pun
 k Garage Rock Alternative Metal Hardcore Powerpop &nbsp; Bier gibt&#8217;s 
 auch! Eintritt Frei!\nhttps://www.goldmarks.de/events/gitarre-laut-yeah-mee
 ts-making-friends-meets-going-underground-goodbye-2018-edition/
URL:https://www.goldmarks.de/events/gitarre-laut-yeah-meets-making-friends-meets-going-underground-goodbye-2018-edition/
END:VEVENT
END:VCALENDAR