BEGIN:VCALENDAR
VERSION:2.0
PRODID:-//eventon.com NONSGML v1.0//EN
CALSCALE:GREGORIAN
METHOD:PUBLISH
BEGIN:VEVENT
UID:69e73947d862e
DTSTAMP:20260421T084559Z
DTSTART:20210911T190000Z
DTEND:20210911T235000Z
LOCATION:Goldmark&#039;s Charlottenplatz 1\,  70173 Stuttgart
SUMMARY:Goldmarks Biergarten  mit Vinyl-Djs
DESCRIPTION:&nbsp; &nbsp;\nhttps://www.goldmarks.de/events/goldmarks-bierga
 rten-mit-vinyl-djs/var/ri-1.l-L1
URL:https://www.goldmarks.de/events/goldmarks-biergarten-mit-vinyl-djs/var/ri-1.l-L1
END:VEVENT
END:VCALENDAR