BEGIN:VCALENDAR
VERSION:2.0
PRODID:-//eventon.com NONSGML v1.0//EN
CALSCALE:GREGORIAN
METHOD:PUBLISH
BEGIN:VEVENT
UID:69e731a65b780
DTSTAMP:20260421T081326Z
DTSTART:20220319T200000Z
DTEND:20220319T235000Z
LOCATION:Goldmark&#039;s Charlottenplatz 1\,  70173 Stuttgart
SUMMARY:Waiting Room feat. Sad Sir (Gitarre\,  Alternative\,  Punkrock\,  Postpunk usw)
DESCRIPTION:Waiting Room feat. Sad Sir (Gitarre\,  Alternative\,  Punkrock\
 ,  Postpunk usw)\nhttps://www.goldmarks.de/events/waiting-room-feat-sad-sir
 -gitarre-alternative-punkrock-postpunk-usw/
URL:https://www.goldmarks.de/events/waiting-room-feat-sad-sir-gitarre-alternative-punkrock-postpunk-usw/
END:VEVENT
END:VCALENDAR