BEGIN:VCALENDAR
VERSION:2.0
PRODID:-//eventon.com NONSGML v1.0//EN
CALSCALE:GREGORIAN
METHOD:PUBLISH
BEGIN:VEVENT
UID:69e746b733329
DTSTAMP:20260421T094319Z
DTSTART:20221223T200000Z
DTEND:20221223T235000Z
LOCATION:Goldmark&#039;s Charlottenplatz 1\,  70173 Stuttgart
SUMMARY:Making Friends and Friends and Friends... X-Mas Special
DESCRIPTION:skate punk punkrock und ne Prise 90s Alternative &nbsp; Eintrit
 t Frei!\nhttps://www.goldmarks.de/events/making-friends-and-friends-and-fri
 ends-x-mas-special/
URL:https://www.goldmarks.de/events/making-friends-and-friends-and-friends-x-mas-special/
END:VEVENT
END:VCALENDAR