BEGIN:VCALENDAR
VERSION:2.0
PRODID:-//eventon.com NONSGML v1.0//EN
CALSCALE:GREGORIAN
METHOD:PUBLISH
BEGIN:VEVENT
UID:69e73188002c0
DTSTAMP:20260421T081256Z
DTSTART:20230603T200000Z
DTEND:20230603T235000Z
LOCATION:Goldmark&#039;s Charlottenplatz 1\,  70173 Stuttgart
SUMMARY:Neuer Termin: LAUT & KANTIG PARTY (Ex-Lautstark Das Ding) feat. Djane Christiane Falk (berlin)
DESCRIPTION:Nach drei Jahren Pause kehrt die Laut &amp; Kantig Party (ehema
 ls DASDING Lautstark-Party) im Mäarz und April nach Stuttgart zurück. Die
  frühere SWR Moderatorin Christiane Falk\,  die seit vielen Jahren beim rb
 b in Berlin arbeitet\,  legt zum Re-Opening des Goldmarks auf. Erstmals nac
 h der Schließung des Keller Klubs kommt die[..]\nhttps://www.goldmarks.de/
 events/laut-kantig-party-ex-lautstark-das-ding-feat-djane-christiane-falk-b
 erlin-3/
URL:https://www.goldmarks.de/events/laut-kantig-party-ex-lautstark-das-ding-feat-djane-christiane-falk-berlin-3/
END:VEVENT
END:VCALENDAR