BEGIN:VCALENDAR
VERSION:2.0
PRODID:-//eventon.com NONSGML v1.0//EN
CALSCALE:GREGORIAN
METHOD:PUBLISH
BEGIN:VEVENT
UID:69e73ea47997f
DTSTAMP:20260421T090852Z
DTSTART:20230527T160000Z
DTEND:20230527T235000Z
LOCATION:
SUMMARY:Biergarten bleibt heute geschlossen. Wir feiern drin!
DESCRIPTION:Biergarten bleibt heute geschlossen. Wir feiern drin!\nhttps://
 www.goldmarks.de/events/biergarten-bleibt-heute-geschlossen-wir-feiern-drin
 /
URL:https://www.goldmarks.de/events/biergarten-bleibt-heute-geschlossen-wir-feiern-drin/
END:VEVENT
END:VCALENDAR