BEGIN:VCALENDAR
VERSION:2.0
PRODID:-//eventon.com NONSGML v1.0//EN
CALSCALE:GREGORIAN
METHOD:PUBLISH
BEGIN:VEVENT
UID:69e9db9a649e6
DTSTAMP:20260423T084306Z
DTSTART:20240913T233000Z
DTEND:20240913T235000Z
LOCATION:Goldmark&#039;s Charlottenplatz 1\,  70173 Stuttgart
SUMMARY:Disco of the Damned // Wave\,  80s - Post-Punk Sounds feat. Djane Mercy & Iron Mesch
DESCRIPTION:DJane MERCY (Dead By Dawn) spielt mit wechselnen Gästen regelm
 äßig Wave (in allen seinen Spielarten)\,  80&#8217;s-Sounds sowie Post-Pu
 nk auf die rotierenden Plattenteller bringen wird. Von Hit bis Nische ist a
 lles dabei! Du auch? &nbsp; Die Party startet direkt nach dem Konzert der l
 egendären Familie Hesselbach ! WOW! sagen wir ![..]\nhttps://www.goldmarks
 .de/events/disco-of-the-damned-wave-80s-post-punk-sounds-feat-djane-mercy-i
 ron-mesch-3/
URL:https://www.goldmarks.de/events/disco-of-the-damned-wave-80s-post-punk-sounds-feat-djane-mercy-iron-mesch-3/
END:VEVENT
END:VCALENDAR