BEGIN:VCALENDAR
VERSION:2.0
PRODID:-//eventon.com NONSGML v1.0//EN
CALSCALE:GREGORIAN
METHOD:PUBLISH
BEGIN:VEVENT
UID:69e88c4817563
DTSTAMP:20260422T085224Z
DTSTART:20241002T200000Z
DTEND:20241002T235000Z
LOCATION:Goldmark&#039;s Charlottenplatz 1\,  70173 Stuttgart
SUMMARY:Atomic Tanz-Vergnügen! feat J. Peppermint & Jensomatic
DESCRIPTION:Die Gladiatoren des Glitzer J. Peppermint &amp; JensOmatic spie
 len 80s Trash\,  Synth-Punk\,  Garage Goodies\,  New Wave und Neue Welle un
 d versprühen dabei gute Laune wie zwei menschliche Konfettikanonen.\nhttps
 ://www.goldmarks.de/events/atomic-tanz-vergnuegen-feat-j-peppermint-jensoma
 tic/
URL:https://www.goldmarks.de/events/atomic-tanz-vergnuegen-feat-j-peppermint-jensomatic/
END:VEVENT
END:VCALENDAR