BEGIN:VCALENDAR
VERSION:2.0
PRODID:-//eventon.com NONSGML v1.0//EN
CALSCALE:GREGORIAN
METHOD:PUBLISH
BEGIN:VEVENT
UID:69e77187c0318
DTSTAMP:20260421T124559Z
DTSTART:20250103T200000Z
DTEND:20250103T235000Z
LOCATION:Goldmark&#039;s Charlottenplatz 1\,  70173 Stuttgart
SUMMARY:Shake O Matic *Vinyl Dance Party* von RocknRoll bis Punk und zurück!
DESCRIPTION:Unser Programm für das erste Fest in 2025 SHAKE O MATIC Hey Ba
 by\,  schüttel dein Gefieder\,  the Bird‘s the Word und wir flattern die
  ganze Nacht! Eine Vinyl Rock‘n‘Roll\,  Soul\,  Punk und Beat Tanzsause
  mit JensOmatic (Club Miaow/ The Horse)\nhttps://www.goldmarks.de/events/sh
 ake-o-matic-vinyl-dance-party-von-rocknroll-bis-punk-und-zurueck/
URL:https://www.goldmarks.de/events/shake-o-matic-vinyl-dance-party-von-rocknroll-bis-punk-und-zurueck/
END:VEVENT
END:VCALENDAR