BEGIN:VCALENDAR
VERSION:2.0
PRODID:-//eventon.com NONSGML v1.0//EN
CALSCALE:GREGORIAN
METHOD:PUBLISH
BEGIN:VEVENT
UID:69e73baeb5c97
DTSTAMP:20260421T085614Z
DTSTART:20250507T200000Z
DTEND:20250507T235000Z
LOCATION:Goldmark&#039;s Charlottenplatz 1\,  70173 Stuttgart
SUMMARY:Temple Fang (NL)
DESCRIPTION:Psychedelisches Heavy-Space-Rock-Monster aus den Niederlanden D
 as aus Amsterdam stammende Quartett ist ein Heavy-Monster\,  genährt vom r
 eichhaltigen 70&#8217;s-Rock\,  das psychedelisch faucht\,  Space Rock in s
 einem heißen Atem hat und das geneigte Publikum seit 2018 mit harten und d
 abei immer doch eleganten Langform-Kompositionen in seinen Bann zieht. Die 
 niederländischen Psych-Zauberer haben sich[..]\nhttps://www.goldmarks.de/e
 vents/temple-fang-nl/
URL:https://www.goldmarks.de/events/temple-fang-nl/
END:VEVENT
END:VCALENDAR