BEGIN:VCALENDAR
VERSION:2.0
PRODID:-//eventon.com NONSGML v1.0//EN
CALSCALE:GREGORIAN
METHOD:PUBLISH
BEGIN:VEVENT
UID:69e88bf5e9246
DTSTAMP:20260422T085101Z
DTSTART:20151105T190000Z
DTEND:20151105T010000Z
LOCATION:Goldmark's Stuttgart Charlottenplatz 1\,  70173 Stuttgart
SUMMARY:THE WHISKEY FOUNDATION (D)
DESCRIPTION:2011 gegründet und in München beheimatet\,  zählen THE WHISK
 EY FOUNDATION\,  das Quintett um den charismatischen Frontmann Murat Kaydir
 ma mittlerweile zu den profiliertesten Vertretern der dortigen Musikszene. 
 Dabei sorgt die Band\,  die zwei Jahre zuvor mit „Take The Walk“ ein vi
 elbeachtetes Albumdebüt vorlegte\,  nicht zuletzt mit ihren vital sprühen
 den Live-Performances für[..]\nhttps://www.goldmarks.de/events/the-whiskey
 -foundation-d/
URL:https://www.goldmarks.de/events/the-whiskey-foundation-d/
END:VEVENT
END:VCALENDAR