BEGIN:VCALENDAR
VERSION:2.0
PRODID:-//eventon.com NONSGML v1.0//EN
CALSCALE:GREGORIAN
METHOD:PUBLISH
BEGIN:VEVENT
UID:69e7493d6e3da
DTSTAMP:20260421T095405Z
DTSTART:20160413T190000Z
DTEND:20160413T010000Z
LOCATION:Goldmark's Stuttgart Charlottenplatz 1\,  70173 Stuttgart
SUMMARY:Alycia Marie // TOMMY  REILLEY // CHRIS BRENNER
DESCRIPTION:Alycia Marie Deutsch-amerikanische Singer/ Songwriterin aus Bad
 en-Baden. YouTube-Star mit einer halben Million Abonnenten. Die deutsch-ame
 rikanische Sängerin und Songwriterin ALYCIA MARIE ist mit hunderttausenden
  treuen Fans bereits eine rasant wachsende Größe in der YouTube-Generatio
 n. Täglich entdecken mehr Jugendliche die beiden eigenen YouTube-Kanäle d
 er Künstlerin\,  die mit ihrer Musik aber auch ihren[..]\nhttps://www.gold
 marks.de/events/alycia-marie-tommy-reilley-chris-brenner/
URL:https://www.goldmarks.de/events/alycia-marie-tommy-reilley-chris-brenner/
END:VEVENT
END:VCALENDAR