BEGIN:VCALENDAR
VERSION:2.0
PRODID:-//eventon.com NONSGML v1.0//EN
CALSCALE:GREGORIAN
METHOD:PUBLISH
BEGIN:VEVENT
UID:69e730eb9325d
DTSTAMP:20260421T081019Z
DTSTART:20160514T200000Z
DTEND:20160514T010000Z
LOCATION:Goldmark's Stuttgart Charlottenplatz 1\,  70173 Stuttgart
SUMMARY:Career Opportunites feat. DJ Großmeister MESCH 
DESCRIPTION:Unser DJ Neuzugang lässt die Platten kreisen !!\nhttps://www.g
 oldmarks.de/events/career-opportunites-feat-dj-grossmeister-mesch/
URL:https://www.goldmarks.de/events/career-opportunites-feat-dj-grossmeister-mesch/
END:VEVENT
END:VCALENDAR