BEGIN:VCALENDAR
VERSION:2.0
PRODID:-//eventon.com NONSGML v1.0//EN
CALSCALE:GREGORIAN
METHOD:PUBLISH
BEGIN:VEVENT
UID:69e73403705bb
DTSTAMP:20260421T082331Z
DTSTART:20161229T200000Z
DTEND:20161229T050000Z
LOCATION:Goldmark's Stuttgart Charlottenplatz 1\,  70173 Stuttgart
SUMMARY:LET`S GET WILD - FESTIVAL 2016 
DESCRIPTION:3 TAGES FESTIVAL MIT INTERNATIONALEM TOP LINE-UP !! &nbsp; &nbs
 p; &nbsp; check out: facebook.com/letsgetwildfestival &nbsp;\nhttps://www.g
 oldmarks.de/events/lets-get-wild-festival-2016-2/
URL:https://www.goldmarks.de/events/lets-get-wild-festival-2016-2/
END:VEVENT
END:VCALENDAR